BEGIN:VCALENDAR
VERSION:2.0
PRODID:-//wp-events-plugin.com//6.4.1//EN
TZID:America/Los_Angeles
X-WR-TIMEZONE:America/Los_Angeles
BEGIN:VEVENT
UID:1079@mbaybrew.com
DTSTART;TZID=America/New_York:20260430T180000
DTEND;TZID=America/New_York:20260430T210000
DTSTAMP:20260312T173003Z
URL:https://mbaybrew.com/events/hop-chef-2/
SUMMARY:Hop Chef
DESCRIPTION:This unique culinary event is not to be missed\, so mark your c
 alendars and join us for the ultimate showdown of top chefs as they compet
 e in a beer-infused cooking competition.\n\nDon't miss out on the chance t
 o witness some of the most talented chefs in the city showcase their skill
 s and creativity in a high-energy culinary battle. Get your taste buds rea
 dy for an unforgettable experience that combines the best of food and beer
 .\nBe sure to follow our Facebook event for all the latest updates and ann
 ouncements leading up to the big day. Get ready to be a part of the action
  and join us for an evening of delicious food\, great company\, and unforg
 ettable memories.\nAll for a good cause\, as we partner with Humane Ohio.\
 n\n&nbsp\;\n\nhttps://www.eventbrite.com/e/hop-chef-season-5-tickets-19839
 78812034?utm-campaign=social&amp\;utm-content=attendeeshare&amp\;utm-mediu
 m=discovery&amp\;utm-term=listing&amp\;utm-source=cp&amp\;aff=ebdsshcopyur
 l
ATTACH;FMTTYPE=image/jpeg:https://mbaybrew.com/wp-content/uploads/2026/02/
 enlight6644-2.jpg
CATEGORIES:Featured Events
END:VEVENT
BEGIN:VTIMEZONE
TZID:America/New_York
X-LIC-LOCATION:America/New_York
BEGIN:DAYLIGHT
DTSTART:20260308T030000
TZOFFSETFROM:-0500
TZOFFSETTO:-0400
TZNAME:EDT
END:DAYLIGHT
END:VTIMEZONE
END:VCALENDAR