BEGIN:VCALENDAR
VERSION:2.0
PRODID:-//wp-events-plugin.com//6.4.1//EN
TZID:America/Los_Angeles
X-WR-TIMEZONE:America/Los_Angeles
BEGIN:VEVENT
UID:1081@mbaybrew.com
DTSTART;TZID=America/New_York:20260502T190000
DTEND;TZID=America/New_York:20260502T210000
DTSTAMP:20260312T173617Z
URL:https://mbaybrew.com/events/midwest-comedy-tour-6/
SUMMARY:Midwest Comedy Tour
DESCRIPTION:COMEDY RETURNS TO MAUMEE BAY BREWING CO!\n\nGet ready for a nig
 ht of laughs as the Midwest Comedy Tour comes to Maumee Bay Brewing Co. on
  Saturday\, May 2!The Midwest Comedy Tour has been traveling across the co
 untry\, bringing their unique blend of stand-up and improv to breweries\, 
 wineries\, comedy clubs\, theaters\, and even baseball stadiums. Joining u
 s will be MCT founder\, Austin Robertson [nationally-touring comedian know
 n for his voiceover work\, writer for Blaze TV’s Normal World\, 2018's 2
 nd place finalist in the "Funniest Person in Ohio" competition\, performin
 g everywhere from Carnegie Hall to rural dive bars\, and even atop some sc
 hool buses]\, Becky Thompson [co-founder of the Midwest Comedy Tour\, fina
 list in the "Funniest Person in Ohio" competition\, featured in the satiri
 cal journal the Belladonna]\, and special guest comics!\nWe are so excited
  to welcome you for an unforgettable evening of fun--come early and enjoy 
 the brewery's finest offerings\, sit back\, relax\, and laugh the night aw
 ay!\n\nDoors open at 6pm\nAdults-only (mature content &amp\; language)\n\n
 \n&nbsp\;\nhttps://www.eventbrite.com/e/midwest-comedy-tour-at-mbbc-ticket
 s-1984567527899?utm-campaign=social&amp\;utm-content=attendeeshare&amp\;ut
 m-medium=discovery&amp\;utm-term=listing&amp\;utm-source=cp&amp\;aff=ebdss
 hcopyurl\n
ATTACH;FMTTYPE=image/jpeg:https://mbaybrew.com/wp-content/uploads/2026/03/
 img_0325.png
CATEGORIES:Featured Events
END:VEVENT
BEGIN:VTIMEZONE
TZID:America/New_York
X-LIC-LOCATION:America/New_York
BEGIN:DAYLIGHT
DTSTART:20260308T030000
TZOFFSETFROM:-0500
TZOFFSETTO:-0400
TZNAME:EDT
END:DAYLIGHT
END:VTIMEZONE
END:VCALENDAR