BEGIN:VCALENDAR
VERSION:2.0
PRODID:-//wp-events-plugin.com//6.4.1//EN
TZID:America/Los_Angeles
X-WR-TIMEZONE:America/Los_Angeles
BEGIN:VEVENT
UID:1083@mbaybrew.com
DTSTART;TZID=America/New_York:20260510T100000
DTEND;TZID=America/New_York:20260510T150000
DTSTAMP:20260415T174223Z
URL:https://mbaybrew.com/events/mothers-day/
SUMMARY:Mother's Day
DESCRIPTION:Celebrate Mom with Our Mother's Day Buffet!\n\nJoin us for a de
 licious feast to honor all the amazing moms out there.\n\nEnjoy a variety 
 of mouth-watering dishes\, great company\, and a warm atmosphere. It’s t
 he perfect way to show your love and appreciation.\n\nDon’t miss out on 
 this special day filled with good food and smiles!\n\nMenu to include Scra
 mbled Eggs\, Western Sytle Scramble\, Sausage\, Bacon\, Oven Roasted Potat
 oes\, Panckaes with Syrup or Fresh Berry Compote with Whipped Cream\, Saus
 age Gravy and Biscuits\, Fresh Fruit\, Fried Chicken\, Mashed Potatoes\, S
 teamed Vegetables\, Mac &amp\; Cheese\, Tossed Salad\, Peel &amp\; Eat Shr
 imp and Pastries\n\nTickets include\, buffet\, non alcoholic beverage\, ta
 x and gratuity\n***ALL TABLES WILL BE PREASSIGNED BEFORE YOU ARRIVE\, PLEA
 SE PURCHASE ALL TICKETS FOR YOUR PARTY IN THE SAME NAME AND TIMEFRAME\n\nh
 ttps://www.eventbrite.com/e/mothers-day-brunch-buffet-tickets-198608815613
 9?utm-campaign=social&amp\;utm-content=attendeeshare&amp\;utm-medium=disco
 very&amp\;utm-term=listing&amp\;utm-source=cp&amp\;aff=ebdsshcopyurl\n
ATTACH;FMTTYPE=image/jpeg:https://mbaybrew.com/wp-content/uploads/2026/04/
 phonto-37.jpg
CATEGORIES:Featured Events
END:VEVENT
BEGIN:VTIMEZONE
TZID:America/New_York
X-LIC-LOCATION:America/New_York
BEGIN:DAYLIGHT
DTSTART:20260308T030000
TZOFFSETFROM:-0500
TZOFFSETTO:-0400
TZNAME:EDT
END:DAYLIGHT
END:VTIMEZONE
END:VCALENDAR