BEGIN:VCALENDAR
VERSION:2.0
PRODID:-//wp-events-plugin.com//6.4.1//EN
TZID:America/Los_Angeles
X-WR-TIMEZONE:America/Los_Angeles
BEGIN:VEVENT
UID:1082@mbaybrew.com
DTSTART;TZID=America/New_York:20260517T100000
DTEND;TZID=America/New_York:20260517T150000
DTSTAMP:20260312T174510Z
URL:https://mbaybrew.com/events/thrift-sip-7/
SUMMARY:Thrift & Sip
DESCRIPTION:Thrift. Sip. Repeat.\nSpend the day browsing curated thrift fin
 ds while enjoying cocktails\, cold drinks\, and live music. From vintage g
 ems to hidden treasures\, you never know what you’ll discover at Thrift 
 &amp\; Sip.\n\nLive musicFood &amp\; drinks availableFree entry to shop\n\
 nVendors: Reserve your selling space — spots are limited!\nhttps://www.e
 ventbrite.com/e/thrift-sip-tickets-1983683702353?utm-campaign=social&amp\;
 utm-content=attendeeshare&amp\;utm-medium=discovery&amp\;utm-term=listing&
 amp\;utm-source=cp&amp\;aff=ebdsshcopyurl
ATTACH;FMTTYPE=image/jpeg:https://mbaybrew.com/wp-content/uploads/2026/03/
 phonto-34.jpg
CATEGORIES:Featured Events
END:VEVENT
BEGIN:VTIMEZONE
TZID:America/New_York
X-LIC-LOCATION:America/New_York
BEGIN:DAYLIGHT
DTSTART:20260308T030000
TZOFFSETFROM:-0500
TZOFFSETTO:-0400
TZNAME:EDT
END:DAYLIGHT
END:VTIMEZONE
END:VCALENDAR